	





BEGIN:VCALENDAR
VERSION:2.0
PRODID:-//GHRC LLP - ECPv6.15.15//NONSGML v1.0//EN
CALSCALE:GREGORIAN
METHOD:PUBLISH
X-ORIGINAL-URL:https://globalhrcommunity.com
X-WR-CALDESC:Events for GHRC LLP
REFRESH-INTERVAL;VALUE=DURATION:PT1H
X-Robots-Tag:noindex
X-PUBLISHED-TTL:PT1H
BEGIN:VTIMEZONE
TZID:Asia/Kolkata
BEGIN:STANDARD
TZOFFSETFROM:+0530
TZOFFSETTO:+0530
TZNAME:IST
DTSTART:20230101T000000
END:STANDARD
END:VTIMEZONE
BEGIN:VEVENT
DTSTART;VALUE=DATE:20240613
DTEND;VALUE=DATE:20240615
DTSTAMP:20260424T212335
CREATED:20240320T070227Z
LAST-MODIFIED:20240320T072358Z
UID:10243-1718236800-1718409599@globalhrcommunity.com
SUMMARY:India HR Summit & Awards 2024
DESCRIPTION:The India HR Summit 2024 (IHRS2024) is the most prestigious annual conference on human resources for top executives and HR professionals in India organized By Synnex Group. \nIt is a non-profit and self-funded event for HR professionals to keep abreast with the trends\, best practices and to strengthen their network. India HR Summit 2024” with the theme “Moving Towards the Next Gen HR” seeks to provide a platform for industry stakeholders to work out a road map for unleashing the true potential of the Business.
URL:https://globalhrcommunity.com/event/india-hr-summit-awards-2024/
LOCATION:Vivanta By Taj\, Dwarka\, New Delhi\, India
CATEGORIES:Certification Program,Conference
ATTACH;FMTTYPE=image/png:https://globalhrcommunity.com/wp-content/uploads/2024/03/synx.png
END:VEVENT
END:VCALENDAR