	





BEGIN:VCALENDAR
VERSION:2.0
PRODID:-//GHRC LLP - ECPv6.15.15//NONSGML v1.0//EN
CALSCALE:GREGORIAN
METHOD:PUBLISH
X-ORIGINAL-URL:https://globalhrcommunity.com
X-WR-CALDESC:Events for GHRC LLP
REFRESH-INTERVAL;VALUE=DURATION:PT1H
X-Robots-Tag:noindex
X-PUBLISHED-TTL:PT1H
BEGIN:VTIMEZONE
TZID:Europe/London
BEGIN:DAYLIGHT
TZOFFSETFROM:+0000
TZOFFSETTO:+0100
TZNAME:BST
DTSTART:20230326T010000
END:DAYLIGHT
BEGIN:STANDARD
TZOFFSETFROM:+0100
TZOFFSETTO:+0000
TZNAME:GMT
DTSTART:20231029T010000
END:STANDARD
BEGIN:DAYLIGHT
TZOFFSETFROM:+0000
TZOFFSETTO:+0100
TZNAME:BST
DTSTART:20240331T010000
END:DAYLIGHT
BEGIN:STANDARD
TZOFFSETFROM:+0100
TZOFFSETTO:+0000
TZNAME:GMT
DTSTART:20241027T010000
END:STANDARD
BEGIN:DAYLIGHT
TZOFFSETFROM:+0000
TZOFFSETTO:+0100
TZNAME:BST
DTSTART:20250330T010000
END:DAYLIGHT
BEGIN:STANDARD
TZOFFSETFROM:+0100
TZOFFSETTO:+0000
TZNAME:GMT
DTSTART:20251026T010000
END:STANDARD
END:VTIMEZONE
BEGIN:VEVENT
DTSTART;VALUE=DATE:20240311
DTEND;VALUE=DATE:20240314
DTSTAMP:20260421T005537
CREATED:20240206T003621Z
LAST-MODIFIED:20240206T033409Z
UID:6346-1710115200-1710374399@globalhrcommunity.com
SUMMARY:Transform US
DESCRIPTION:Transform sits at the intersection of technology and the people transforming the workplace. The event brings together people-driven executives\, future of work entrepreneurs\, and workforce tech investors for three days of progressive programming\, curated connections\, innovative technology\, and energizing after-hours networking. \nTaking place over the course of 3 days\, the Transform conference featured hands-on learning experiences\, interactive small group discussions\, 300 speakers\, and the crowd-favorite after party with special musical performance! \nClick for registration:  Join Us at Transform 2024 \n 
URL:https://globalhrcommunity.com/event/https-transform-us-conference/
CATEGORIES:Conference
ATTACH;FMTTYPE=image/png:https://globalhrcommunity.com/wp-content/uploads/2024/02/Untitled-3.png
END:VEVENT
BEGIN:VEVENT
DTSTART;VALUE=DATE:20240222
DTEND;VALUE=DATE:20240225
DTSTAMP:20260421T005537
CREATED:20240215T024654Z
LAST-MODIFIED:20240215T024654Z
UID:7161-1708560000-1708819199@globalhrcommunity.com
SUMMARY:Nextech India HR Summit 2024
DESCRIPTION:As the industry rides the innovation wave\, it is an exciting time for stakeholders to display courage and creativity\, opening wholly new frontiers of possibilities in the new world\, which we call the Metaverse. The game is on to outsmart competitors by building business models that make complicated products and services simpler and more economical\, thus disrupting existing markets. What enabled Netflix to wipe out CDs? Tech is not just evolving processes and practices but superseding them in every possible way. \nHR Tech has dawned a new paradigm for people leaders\, enabling them to drive better business outcomes via talent\, skills\, and cost-effectiveness. Exploring the most thrilling tech evolutions from web3 to Metaverse\, Nextech India HR Summit will dig out the best stories\, anecdotes\, and case-in-points. \nAt NEXTECH 2024\, we shall delve into the future of technology and its profound impact on human efficiency and decision-making. This year’s theme\, “Road to Meta Smart\,” explores the transformative journey toward a world where Meta and smart technologies converge to enhance our capabilities and elevate our potential. \nRegister Now: Nextech India HR Summit | HR Leadership Conference | HR Events and Conferences | ETHRWorld (indiatimes.com)
URL:https://globalhrcommunity.com/event/nextech-india-hr-summit-2024/
CATEGORIES:Conference
ATTACH;FMTTYPE=image/png:https://globalhrcommunity.com/wp-content/uploads/2024/02/Screenshot-2024-02-15-133112-2.png
END:VEVENT
BEGIN:VEVENT
DTSTART;VALUE=DATE:20240209
DTEND;VALUE=DATE:20240211
DTSTAMP:20260421T005537
CREATED:20240112T092059Z
LAST-MODIFIED:20240112T092059Z
UID:4032-1707436800-1707609599@globalhrcommunity.com
SUMMARY:12th NHRD HR Showcase
DESCRIPTION:The NHRD HR Showcase\, is the signature event of the NHRD Bangalore Chapter\, and is shaped to bolster the enduring spirit of the HR practices. \nThe HR Showcase is a platform to present HR excellence\, spanning a range of unique sensibilities\, from an intellectual re-imagining of concepts and cultures to an intuitive adaptability for significant business impact. This Showcase is an opportunity to honour the thinkers and doers among us\, the barrier breakers\, the bridge builders\, and the radiating forces of change. They were put under the limelight. Organisations & individuals presented path-changing practices as a formative influence to the Business & HR fraternity. \nThe competition categories are as follows: \n\nCorporate HR Best Practices\nBest HR Start Up\nBest Practices in Innovation in Management Education
URL:https://globalhrcommunity.com/event/12th-nhrd-hr-showcase/
LOCATION:Hotel Ashok\, Kumarakrupa Rd\, opposite Golf Club\, Kumara Park East\, Seshadripuram\, Bengaluru\, Karnataka 560001\, Bengaluru\,\, Karnataka\, 560001\, India
CATEGORIES:Competition,Conference
ATTACH;FMTTYPE=image/jpeg:https://globalhrcommunity.com/wp-content/uploads/2024/01/NHRShowcase.jpg
ORGANIZER;CN="NHRD Bangalore Chapter":MAILTO:reachus@nhrdbangalore.com
END:VEVENT
BEGIN:VEVENT
DTSTART;VALUE=DATE:20240202
DTEND;VALUE=DATE:20240316
DTSTAMP:20260421T005537
CREATED:20240215T025948Z
LAST-MODIFIED:20240215T025948Z
UID:7167-1706832000-1710547199@globalhrcommunity.com
SUMMARY:Talent Acquisition Certification Program
DESCRIPTION:In a work environment where remote work is here to stay\, talent acquisition\, as a function\, has evolved by leaps and bounds. Today\, the use of AI and tech is at an all-time high and the talent acquisition club is no alien to it. According to a report\, as of 2023\, the global market size of the AI recruitment industry has grown to a staggering $590.50 billion\, and therefore\, keeping pace with these ever-evolving working conditions is a top priority for almost all talent acquisition professionals. \nAs per a recent survey\, on average\, recruiters receive 250 applications for a role\, making selecting the right candidate a time-consuming and tedious task. Adding to this are the skyrocketing costs associated with one bad hire. Thus\, it is time to break traditional shackles and transform the conventional methods to make it more effective and efficient. \nResearched and curated by ETHRWorld\, this Talent Acquisition Certification Program provides a global platform for all the people leaders to come to learn and understand the true rules of conduct. Our cohort-based certifications follow an immersive CEC methodology which comprises the following elements: \n\nConceptual – The modules will help you understand the concept clearly. You will be going through various models and methodologies for better learning.\nExperientialExperiencing the potential of TA through case studies can help you gain valuable insights.\nCollaboration What can be better than collaborating with leaders of your industry? Connecting and brainstorming for the capstone project will open new horizons of thought.\n\nIf you want to be on top of the hiring process by attracting-hiring-retaining the best talent\, join us for an immersive and enriching journey. \nJoin Now: Talent Acquisition Certification Program | ETHRWorld (indiatimes.com)
URL:https://globalhrcommunity.com/event/talent-acquisition-certification-program/
CATEGORIES:Certification Program,Conference
ATTACH;FMTTYPE=image/png:https://globalhrcommunity.com/wp-content/uploads/2024/02/Screenshot-2024-02-15-135411-e1707985696908.png
END:VEVENT
END:VCALENDAR