	





BEGIN:VCALENDAR
VERSION:2.0
PRODID:-//GHRC LLP - ECPv6.15.15//NONSGML v1.0//EN
CALSCALE:GREGORIAN
METHOD:PUBLISH
X-WR-CALNAME:GHRC LLP
X-ORIGINAL-URL:https://globalhrcommunity.com
X-WR-CALDESC:Events for GHRC LLP
REFRESH-INTERVAL;VALUE=DURATION:PT1H
X-Robots-Tag:noindex
X-PUBLISHED-TTL:PT1H
BEGIN:VTIMEZONE
TZID:Asia/Kolkata
BEGIN:STANDARD
TZOFFSETFROM:+0530
TZOFFSETTO:+0530
TZNAME:IST
DTSTART:20240101T000000
END:STANDARD
END:VTIMEZONE
BEGIN:VEVENT
DTSTART;TZID=Asia/Kolkata:20251025T150000
DTEND;TZID=Asia/Kolkata:20251025T190000
DTSTAMP:20260424T213625
CREATED:20250929T113443Z
LAST-MODIFIED:20250929T113446Z
UID:41727-1761404400-1761418800@globalhrcommunity.com
SUMMARY:Quiz Connect
DESCRIPTION:Get ready for an evening of fun\, learning\, and networking like never before! \n\n\n\nJoin us at BHIVE Workspace\, MG Road for an engaging Quiz Connect session hosted by the charismatic Quiz Master\, Pramoud Padmanaban. \n\n\n\n📅 Saturday\, Oct 25🕒 3:00 PM – 7:00 PM📍 BHIVE Workspace\, MG Road (Near Trinity Metro Station) \n\n\n\nThis is not just another quiz – it’s a brain-teasing\, laughter-filled\, interactive experience designed to bring together professionals\, challenge your knowledge\, and spark meaningful conversations. Whether you’re a GHRC member or a guest\, this is your chance to test your wits\, learn something new\, and build connections that go beyond business cards. \n\n\n\nREGISTER HERE
URL:https://globalhrcommunity.com/event/quiz-connect/
LOCATION:BHIVE Workspace MG Road (Near Trinity Metro Station)\, Mahalakshmi Chambers\, 29\, Mahatma Gandhi Rd\, Bengaluru\, Karnataka\, 560001\, India
CATEGORIES:Event,Networking
ATTACH;FMTTYPE=image/png:https://globalhrcommunity.com/wp-content/uploads/2025/09/quiz-connect-hori.png
END:VEVENT
END:VCALENDAR