	





BEGIN:VCALENDAR
VERSION:2.0
PRODID:-//GHRC LLP - ECPv6.15.15//NONSGML v1.0//EN
CALSCALE:GREGORIAN
METHOD:PUBLISH
X-ORIGINAL-URL:https://globalhrcommunity.com
X-WR-CALDESC:Events for GHRC LLP
REFRESH-INTERVAL;VALUE=DURATION:PT1H
X-Robots-Tag:noindex
X-PUBLISHED-TTL:PT1H
BEGIN:VTIMEZONE
TZID:Asia/Kolkata
BEGIN:STANDARD
TZOFFSETFROM:+0530
TZOFFSETTO:+0530
TZNAME:IST
DTSTART:20240101T000000
END:STANDARD
END:VTIMEZONE
BEGIN:VEVENT
DTSTART;TZID=Asia/Kolkata:20251108T090000
DTEND;TZID=Asia/Kolkata:20251108T180000
DTSTAMP:20260424T185358
CREATED:20250908T090038Z
LAST-MODIFIED:20250929T110806Z
UID:41400-1762592400-1762624800@globalhrcommunity.com
SUMMARY:Moonshot Ideas And Exponential Thinking
DESCRIPTION:  \nAre you ready to move beyond incremental growth and embrace exponential scale?Join us for an immersive full-day workshop designed to help leaders\, entrepreneurs\, and innovators reimagine business growth strategies and stay ahead in a rapidly evolving world. \n\n\n\n🌟 Why Attend?\n\n\n\n\nGain insights into Exponential Thinking & Abundance Mindset\n\n\n\nLearn Moonshot Strategies to scale businesses 10X\n\n\n\nUnderstand how to leverage AI\, Blockchain\, IoT & exponential technologies\n\n\n\nDiscover disruptive innovation frameworks to stay ahead\n\n\n\nLearn to create a Massive Transformative Purpose (MTP)\n\n\n\nNetwork with industry leaders & like-minded professionals\n\n\n\n\n📅 Workshop Agenda\nRegistration & NetworkingKickstart the day with networking and program overview. \nSession 1: The 10X Growth Mindset \n\n\nAbundance\, Moonshots & Exponential Thinking \n\n\nCase Studies of Exponential Organisations \n\n\n☕ Tea/Coffee Break \nSession 2: Moonshot Ideas & Exponential Thinking \n\n\nDisrupt Before Being Disrupted \n\n\nEmbracing agility & adaptability \n\n\n🍴 Lunch & Networking \nBuilding Ecosystems & Leveraging Exponential Technologies \n\n\nEcosystem Thinking: Products → Platforms \n\n\nAI\, Blockchain\, IoT for business growth \n\n\n☕ Tea/Coffee Break \nSession 3: Implementing the 10X Growth Formula \n\n\nMassive Transformative Purpose (MTP) \n\n\nBusiness Model Innovation \n\n\nCase Studies of 10X Growth \n\n\nWrap-up & Action Plan \n\n\nKey takeaways\, Q&A & Next steps \n\n\n\n👥 Who Should Attend?\n\n\nCEOs\, Business Leaders & Entrepreneurs \n\n\nStrategy & Innovation Leaders \n\n\nHR & People Leaders \n\n\nStartups & Scaleups \n\n\nTechnology & Digital Transformation Leaders \n\n\n📍 Registration Details\n\n\nLocation: Bangalore \n\n\nDate: Nov 8th\, 2025 \n\n\nTime: 9:00 AM – 6:00 PM \n\n\nFees: Rs. 7\,500 (GHRC Members) | Rs. 9\,000 (General Public) (inclusive of GST) \n\n\n📩 Contact for group registrations & discounts:✉️ shwetarao@globalhrcommunity.com📞 9986741453 \n\n\nRegister Now
URL:https://globalhrcommunity.com/event/moonshot-ideas-and-exponential-thinking/
LOCATION:Vajram Antiques and Gardens\, GHRC Office c/o Vajram Antiques & Gardens\, 1036 30th main road poornaprajna layout\, Uttarahalli Hobli\, \,\, Bengaluru\, Karnataka\, 560061\, India
CATEGORIES:Event,Workshop
ATTACH;FMTTYPE=image/png:https://globalhrcommunity.com/wp-content/uploads/2025/09/Moonshot-ideas-Exponential-Thinking-wide-banner-3.png
ORGANIZER;CN="Global HR Community":MAILTO:eventsghrc@globalhrcommunity.com
END:VEVENT
END:VCALENDAR