	





BEGIN:VCALENDAR
VERSION:2.0
PRODID:-//GHRC LLP - ECPv6.15.15//NONSGML v1.0//EN
CALSCALE:GREGORIAN
METHOD:PUBLISH
X-ORIGINAL-URL:https://globalhrcommunity.com
X-WR-CALDESC:Events for GHRC LLP
REFRESH-INTERVAL;VALUE=DURATION:PT1H
X-Robots-Tag:noindex
X-PUBLISHED-TTL:PT1H
BEGIN:VTIMEZONE
TZID:Asia/Kolkata
BEGIN:STANDARD
TZOFFSETFROM:+0530
TZOFFSETTO:+0530
TZNAME:IST
DTSTART:20240101T000000
END:STANDARD
END:VTIMEZONE
BEGIN:VEVENT
DTSTART;TZID=Asia/Kolkata:20250621T100000
DTEND;TZID=Asia/Kolkata:20250621T120000
DTSTAMP:20260423T223208
CREATED:20250526T074922Z
LAST-MODIFIED:20250526T074922Z
UID:38797-1750500000-1750507200@globalhrcommunity.com
SUMMARY:The Jeanne Liedtka HR Blueprint: Design Thinking for Transformational Impact
DESCRIPTION:Masterclass: Unleashing Innovation to Drive Change Through Jeanne Liedtka’s Design Thinking Methodology\nPresented by:\nDr. Anu B\nDesign Thinking Facilitator | International Speaker | Author \n\nSession Overview:\nDiscover how to unlock the innovative potential within you and drive change\, regardless of your role or designation\, using Jeanne Liedtka’s proven Design Thinking methodology.\nIn this transformative and hands-on session\, you’ll learn how to create a culture where anyone can identify opportunities\, solve problems\, and drive meaningful change within your organization. \n\n🔑 Key Takeaways:\n\n\nA comprehensive understanding of Jeanne Liedtka’s Design Thinking methodology and its core principles \n\n\nPractical tools to identify and tackle challenges from a human-centered perspective \n\n\nStep-by-step process to run innovation initiatives regardless of your position or department \n\n\nA personalized action plan to implement your first Design Thinking project \n\n\n\n🎯 Who Should Attend:\n\n\nHR Professionals at all levels \n\n\nTeam Leaders and Supervisors \n\n\nIndividual Contributors seeking to make an impact \n\n\nCross-functional team members \n\n\nAnyone passionate about driving positive change in their workplace \n \n\n\n 
URL:https://globalhrcommunity.com/event/the-jeanne-liedtka-hr-blueprint-design-thinking-for-transformational-impact/
LOCATION:Virtual
CATEGORIES:Networking,Webinar Online
ATTACH;FMTTYPE=image/png:https://globalhrcommunity.com/wp-content/uploads/2025/05/Design-Thinking-NEW.png
ORGANIZER;CN="Global HR Community":MAILTO:eventsghrc@globalhrcommunity.com
END:VEVENT
BEGIN:VEVENT
DTSTART;TZID=Asia/Kolkata:20250628T100000
DTEND;TZID=Asia/Kolkata:20250628T120000
DTSTAMP:20260423T223208
CREATED:20250519T050746Z
LAST-MODIFIED:20250519T052844Z
UID:38617-1751104800-1751112000@globalhrcommunity.com
SUMMARY:Facilitation for the Data-Driven Organisation
DESCRIPTION:Unlock the human side of data. \nJoin us for an immersive simulation that goes beyond numbers to explore how facilitation techniques can align people\, purpose\, and performance in a data-driven environment. In this dynamic session\, you’ll experience first-hand the power of structured dialogue and co-creation in driving clarity\, accountability\, and results across your organisation. \nWhether you’re a leader\, facilitator\, or change agent\, this event will equip you with practical approaches to bridge the gap between insights and action—by engaging the people behind the promise. \nWhat to expect: \nIn a world full of data\, the challenge is not collecting it—but making sense of it. In this session\, you’ll learn: \n🔹 Why sense-making is essential in data-rich environments\n🔹 How facilitation creates shared understanding and drives action\n🔹 Practical tools for navigating complex information\n🔹 How to lead the people-side of data-driven change \nTurn numbers into meaning—and meaning into impact. \nMeet the Facilitators:\n🔹 Vandana Boolell – ICF Executive Coach\, That Resilience Coach\n🔹 Pepe Numi – Founder\, Chairman & Facilitator\, Grape People \nDon’t miss this unique opportunity to discover how intentional facilitation can transform your data strategy into shared impact.
URL:https://globalhrcommunity.com/event/facilitation-for-the-data-driven-organisation/
LOCATION:Virtual
CATEGORIES:Webinar Online
ATTACH;FMTTYPE=image/jpeg:https://globalhrcommunity.com/wp-content/uploads/2025/05/vandana-portal-scaled.jpg
ORGANIZER;CN="Global HR Community":MAILTO:eventsghrc@globalhrcommunity.com
END:VEVENT
BEGIN:VEVENT
DTSTART;TZID=Asia/Kolkata:20250629T110000
DTEND;TZID=Asia/Kolkata:20250629T133000
DTSTAMP:20260423T223208
CREATED:20250624T120742Z
LAST-MODIFIED:20250624T121405Z
UID:39567-1751194800-1751203800@globalhrcommunity.com
SUMMARY:AI in Hiring: Revolution or Red Flag in 2025
DESCRIPTION:Is AI transforming recruitment—or threatening it? \nIn this expert-led roundtable\, industry leaders break down how AI hiring tools are shaping the future of talent acquisition in 2025. From automation to bias\, transparency to compliance\, you’ll get a full 360-view of what recruiters\, HR professionals\, and business leaders must know to stay competitive and ethical in the age of artificial intelligence. \n👉 Subscribe for future sessions + bonus trainings \nIn this session\, you’ll learn:\n• What AI hiring tools are really doing behind the scenes\n• Key challenges like bias\, legal issues\, and data security\n• The best tools & tech for recruiters in 2025\n• How job seekers are being affected by automation\n• Insights from top keynote speakers in HR & AI \nWe’ll break down: \n\n\nWhat AI tools really do in hiring \n\n\nHow to dodge the legal traps & bias landmines \n\n\nThe tools that will 10x your speed (and what to avoid) \n\n\nBonus: Drop a question for our keynote speakers and we’ll shout you out LIVE (yes\, in front of hundreds). \nClaim your seat now before it’s full:\nClick to Attend \nJoin our WhatsApp room (Get Quick Notifications of Upcoming sessions):\nWhatsApp Group \nThis is not another boring panel. It’s the future of hiring. \nAnd it’s moving—with or without you. \n\n📣 If you’re a recruiter\, HR pro\, or tech leader—this conversation is a must-watch. \n✅ Like this video? Hit 👍 + subscribe for more high-impact panels!\n💬 Comment below: Do you think AI is improving or harming the hiring process? \n🎥 Check Out More Videos: \nhttps://www.youtube.com/@Careertalks-f9x/streams \n\n📲 Connect with us: \nEmail | connect@gskumar.com \n#AIHiring #LinkedInLive #CHRO #HRTech #Hiring2025 #HRLeaders #FutureOfWork #AutomationInHR
URL:https://globalhrcommunity.com/event/ai-in-hiring-revolution-or-red-flag-in-2025/
CATEGORIES:Webinar Online
ATTACH;FMTTYPE=image/jpeg:https://globalhrcommunity.com/wp-content/uploads/2025/06/gskumar.jpg
END:VEVENT
END:VCALENDAR