	





BEGIN:VCALENDAR
VERSION:2.0
PRODID:-//GHRC LLP - ECPv6.15.15//NONSGML v1.0//EN
CALSCALE:GREGORIAN
METHOD:PUBLISH
X-ORIGINAL-URL:https://globalhrcommunity.com
X-WR-CALDESC:Events for GHRC LLP
REFRESH-INTERVAL;VALUE=DURATION:PT1H
X-Robots-Tag:noindex
X-PUBLISHED-TTL:PT1H
BEGIN:VTIMEZONE
TZID:Asia/Kolkata
BEGIN:STANDARD
TZOFFSETFROM:+0530
TZOFFSETTO:+0530
TZNAME:IST
DTSTART:20240101T000000
END:STANDARD
END:VTIMEZONE
BEGIN:VEVENT
DTSTART;TZID=Asia/Kolkata:20251213T100000
DTEND;TZID=Asia/Kolkata:20251213T120000
DTSTAMP:20260421T063332
CREATED:20251210T051718Z
LAST-MODIFIED:20251210T052139Z
UID:42427-1765620000-1765627200@globalhrcommunity.com
SUMMARY:Influencing Stakeholders at Work
DESCRIPTION:This webinar focuses on helping professionals strengthen their ability to work effectively with various stakeholders. It highlights practical approaches and frameworks that make it easier to understand people\, communicate with clarity\, and gain support for ideas\, projects\, and decisions. \n\n\n\nKey TakeawaysIn this session\, participants will: \n\n\n\nIdentify styles and needs of your stakeholders\, enabling you to understand how different individuals think\, behave\, and make decisions. \n\n\n\nApply strategies to influence key stakeholders\, so you can build trust\, drive alignment\, and achieve better outcomes in your interactions. \n\n\n\nTarget AudienceThis webinar is suitable for anyone who deals with internal and/or external stakeholders at work\, including team members\, managers\, project leads\, HR professionals\, client-facing roles\, and cross-functional collaborators. \n\n\n\nAgendaThe session will cover: \n\n\n\nFraming of Messages to Influence – Learning how to communicate in ways that increase buy-in and engagement \n\n\n\nSocial Styles – Understanding the behavioral styles of your stakeholders \n\n\n\nModels of Influence – Exploring practical influence frameworks \n\n\n\nRegister Now
URL:https://globalhrcommunity.com/event/influencing-stakeholders-at-work/
CATEGORIES:Webinar Online,Webiner
ATTACH;FMTTYPE=image/jpeg:https://globalhrcommunity.com/wp-content/uploads/2025/12/pravasi-bushan-1.jpg
END:VEVENT
END:VCALENDAR