	





BEGIN:VCALENDAR
VERSION:2.0
PRODID:-//GHRC LLP - ECPv6.15.15//NONSGML v1.0//EN
CALSCALE:GREGORIAN
METHOD:PUBLISH
X-WR-CALNAME:GHRC LLP
X-ORIGINAL-URL:https://globalhrcommunity.com
X-WR-CALDESC:Events for GHRC LLP
REFRESH-INTERVAL;VALUE=DURATION:PT1H
X-Robots-Tag:noindex
X-PUBLISHED-TTL:PT1H
BEGIN:VTIMEZONE
TZID:Asia/Kolkata
BEGIN:STANDARD
TZOFFSETFROM:+0530
TZOFFSETTO:+0530
TZNAME:IST
DTSTART:20250101T000000
END:STANDARD
END:VTIMEZONE
BEGIN:VEVENT
DTSTART;TZID=Asia/Kolkata:20260110T100000
DTEND;TZID=Asia/Kolkata:20260110T120000
DTSTAMP:20260421T053055
CREATED:20251215T063347Z
LAST-MODIFIED:20251215T064435Z
UID:42561-1768039200-1768046400@globalhrcommunity.com
SUMMARY:GCC Talent Trends: The Shift from Transactional Hiring to Strategic Workforce Planning
DESCRIPTION:The GCC talent landscape is transforming faster than ever-driven by Vision 2030\, economic diversification\, nationalization efforts\, and the rising demand for future-ready skills. Traditional recruitment models rooted in reactive\, vacancy-based hiring can no longer keep pace. Today\, organizations must shift from filling roles to forecasting capability needs and building a workforce strategy that is agile\, insight-driven\, and aligned with long-term business goals. \n\n\n\nThis session unpacks the evolution of Talent Acquisition in the GCC and provides a practical roadmap to help HR leaders transition from transactional hiring to strategic workforce planning. Through real insights\, proven tools\, and region-specific case examples\, participants will discover how to elevate TA into a value-creating strategic function. \n\n\n\nKey Takeaways\n\n\n\nThe Paradigm Shift: Why the traditional “post-and-pray” hiring model is obsolete-and what strategic\, proactive workforce planning looks like in the GCC context. \n\n\n\nData is the New Oil: How to use workforce analytics and market intelligence to anticipate talent needs\, mitigate future risks\, and guide smarter decision-making. \n\n\n\nIntegrated Talent Ecosystem: Learn how to connect recruitment with succession planning\, skill building\, and internal mobility for a future-ready workforce. \n\n\n\nAgility as a Core Competency: Build adaptable talent strategies that respond quickly to economic shifts\, national priorities\, and technological disruptions. \n\n\n\nTechnology as an Enabler: Understand which HR technologies (AI\, predictive analytics\, skills databases) truly add value-and how to deploy them effectively. \n\n\n\nActionable Framework: Walk away with a clear step-by-step plan to begin transitioning your organization from reactive hiring to strategic workforce planning. \n\n\n\nWho Should Attend\n\n\n\nPrimary Audience: \n\n\n\nCHROs & HR Directors across GCC organizations \n\n\n\nHeads of Talent Acquisition\, Talent Management\, and Workforce Planning \n\n\n\nHR Strategy & Manpower Planning Leaders \n\n\n\nSecondary Audience: \n\n\n\nBusiness Unit Leaders involved in workforce decisions \n\n\n\nHR Business Partners \n\n\n\nHR & Talent Consultants focusing on GCC markets \n\n\n\nWhy Attend?\n\n\n\nIf you are ready to move beyond reactive hiring and build a resilient\, scalable\, and future-proof workforce strategy for your organization\, this session will give you the insights\, tools\, and direction to get started. \n\n\n\nREGISTER NOW
URL:https://globalhrcommunity.com/event/gcc-talent-trends-the-shift-from-transactional-hiring-to-strategic-workforce-planning/
CATEGORIES:Webinar Online,Webiner
ATTACH;FMTTYPE=image/jpeg:https://globalhrcommunity.com/wp-content/uploads/2025/12/Keerthy-Reddy-1.jpg
ORGANIZER;CN="Global HR Community":MAILTO:eventsghrc@globalhrcommunity.com
END:VEVENT
END:VCALENDAR