	





BEGIN:VCALENDAR
VERSION:2.0
PRODID:-//GHRC LLP - ECPv6.15.15//NONSGML v1.0//EN
CALSCALE:GREGORIAN
METHOD:PUBLISH
X-WR-CALNAME:GHRC LLP
X-ORIGINAL-URL:https://globalhrcommunity.com
X-WR-CALDESC:Events for GHRC LLP
REFRESH-INTERVAL;VALUE=DURATION:PT1H
X-Robots-Tag:noindex
X-PUBLISHED-TTL:PT1H
BEGIN:VTIMEZONE
TZID:Asia/Kolkata
BEGIN:STANDARD
TZOFFSETFROM:+0530
TZOFFSETTO:+0530
TZNAME:IST
DTSTART:20250101T000000
END:STANDARD
END:VTIMEZONE
BEGIN:VEVENT
DTSTART;TZID=Asia/Kolkata:20260228T100000
DTEND;TZID=Asia/Kolkata:20260228T120000
DTSTAMP:20260421T081726
CREATED:20260203T051521Z
LAST-MODIFIED:20260203T051525Z
UID:42930-1772272800-1772280000@globalhrcommunity.com
SUMMARY:Talent Management- What separates the best from the rest
DESCRIPTION:Designing Talent Management Systems that Learn from the Past\, Deliver Today\, and Scale for Tomorrow \n\n\n\nTalent management is no longer about static frameworks\, annual cycles\, or ticking HR boxes. In a world defined by uncertainty\, rapid skill shifts\, and evolving employee expectations\, organisations need talent systems that learn\, adapt\, and scale with the business. \n\n\n\nThis session takes a modern\, practical lens on Talent Management -what to let go of\, what to fix\, and what to double down on -to help leaders and people managers design systems that truly work in today’s context and tomorrow’s reality. \n\n\n\nWhat you’ll take away: \n\n\n\n\nHow to move from rigid\, static frameworks to dynamic\, business-aligned talent processes\n\n\n\nPractical ways to link talent decisions directly to business outcomes\, not just HR activities\n\n\n\nApproaches to identify\, grow\, and deploy critical talent in uncertain and fast-changing environments\n\n\n\nReal-world insights on balancing performance\, potential\, and purpose without overcomplicating systems\n\n\n\n\nWho should attend:Anyone who manages people\, leads teams or organisations\, or works closely with talent – HR leaders\, business leaders\, people managers\, and talent practitioners. \n\n\n\nIf you’re looking to move beyond traditional talent management and build systems that actually support growth\, agility\, and impact\, this session is for you. \n\n\n\nJoin us and be part of the conversation on building future-ready talent systems. \n\n\n\nREGISTER NOW
URL:https://globalhrcommunity.com/event/talent-management-what-separates-the-best-from-the-rest/
CATEGORIES:Webinar Online
ATTACH;FMTTYPE=image/jpeg:https://globalhrcommunity.com/wp-content/uploads/2026/02/Rutvij-Shah-horizontal-poster.jpg-1.jpeg
ORGANIZER;CN="Global HR Community":MAILTO:eventsghrc@globalhrcommunity.com
END:VEVENT
END:VCALENDAR