	





BEGIN:VCALENDAR
VERSION:2.0
PRODID:-//GHRC LLP - ECPv6.15.15//NONSGML v1.0//EN
CALSCALE:GREGORIAN
METHOD:PUBLISH
X-WR-CALNAME:GHRC LLP
X-ORIGINAL-URL:https://globalhrcommunity.com
X-WR-CALDESC:Events for GHRC LLP
REFRESH-INTERVAL;VALUE=DURATION:PT1H
X-Robots-Tag:noindex
X-PUBLISHED-TTL:PT1H
BEGIN:VTIMEZONE
TZID:Europe/London
BEGIN:DAYLIGHT
TZOFFSETFROM:+0000
TZOFFSETTO:+0100
TZNAME:BST
DTSTART:20230326T010000
END:DAYLIGHT
BEGIN:STANDARD
TZOFFSETFROM:+0100
TZOFFSETTO:+0000
TZNAME:GMT
DTSTART:20231029T010000
END:STANDARD
BEGIN:DAYLIGHT
TZOFFSETFROM:+0000
TZOFFSETTO:+0100
TZNAME:BST
DTSTART:20240331T010000
END:DAYLIGHT
BEGIN:STANDARD
TZOFFSETFROM:+0100
TZOFFSETTO:+0000
TZNAME:GMT
DTSTART:20241027T010000
END:STANDARD
BEGIN:DAYLIGHT
TZOFFSETFROM:+0000
TZOFFSETTO:+0100
TZNAME:BST
DTSTART:20250330T010000
END:DAYLIGHT
BEGIN:STANDARD
TZOFFSETFROM:+0100
TZOFFSETTO:+0000
TZNAME:GMT
DTSTART:20251026T010000
END:STANDARD
END:VTIMEZONE
BEGIN:VEVENT
DTSTART;VALUE=DATE:20241028
DTEND;VALUE=DATE:20241031
DTSTAMP:20260423T212610
CREATED:20240206T050659Z
LAST-MODIFIED:20240206T050804Z
UID:6393-1730073600-1730332799@globalhrcommunity.com
SUMMARY:Gartner Reimagine
DESCRIPTION:The Premier Conference for CHROs and Their HR Leadership Teams\n\nThrough the extreme disruption of the past three years\, organizations showed remarkable innovation and experimentation. HR led the way in transforming work models\, boosting accountability for employee well-being and equity\, and expanding the boundaries of what leaders previously thought their people\, systems and technologies could achieve.How can HR leaders build a new\, sustainable path forward to extraordinary talent impact without the extraordinary circumstances of recent years?At Gartner ReimagineHR Conference 2023\, we explored emerging ideas and actionable insights on how HR leaders can harness and direct this creative momentum to unlock new dimensions of human performance.We hope you enjoyed the 2023 Gartner ReimagineHR Conference! If you missed it\, be sure to explore what was covered at the conference.The program for the 2024 ReimagineHR Conference is underway and we look forward to sharing details soon! \nRegistration : Register | Gartner ReimagineHR Conference 2024\, in Orlando\, FL
URL:https://globalhrcommunity.com/event/gartner-reimagine/
CATEGORIES:Conference
ATTACH;FMTTYPE=image/png:https://globalhrcommunity.com/wp-content/uploads/2024/02/Untitled-17.png
END:VEVENT
END:VCALENDAR