	





BEGIN:VCALENDAR
VERSION:2.0
PRODID:-//GHRC LLP - ECPv6.15.15//NONSGML v1.0//EN
CALSCALE:GREGORIAN
METHOD:PUBLISH
X-ORIGINAL-URL:https://globalhrcommunity.com
X-WR-CALDESC:Events for GHRC LLP
REFRESH-INTERVAL;VALUE=DURATION:PT1H
X-Robots-Tag:noindex
X-PUBLISHED-TTL:PT1H
BEGIN:VTIMEZONE
TZID:Asia/Kolkata
BEGIN:STANDARD
TZOFFSETFROM:+0530
TZOFFSETTO:+0530
TZNAME:IST
DTSTART:20250101T000000
END:STANDARD
END:VTIMEZONE
BEGIN:VEVENT
DTSTART;TZID=Asia/Kolkata:20260131T150000
DTEND;TZID=Asia/Kolkata:20260131T190000
DTSTAMP:20260421T021231
CREATED:20260107T113133Z
LAST-MODIFIED:20260108T040051Z
UID:42740-1769871600-1769886000@globalhrcommunity.com
SUMMARY:AI in HR - The “Mantrika Way”
DESCRIPTION:We’re excited to announce an upcoming conversation on how AI is redefining the future of people\, performance\, and organizations hosted by the Global HR Community and proudly sponsored by Mantrika.ai. \n\n\n\nToday\, HR is moving from process automation to decision intelligence  where humans and AI collaborate to build fair\, transparent\, data-driven\, and future-ready organizations. \n\n\n\n🔶 The Mantrika Way \n\n\n\nis about reimagining HR with AI as a thinking partner  enabling leaders to move from incremental change to exponential growth. \n\n\n\nWhat you can expect \n\n\n\n✔️ Practical use-cases of AI across talent\, engagement\, and performance \n\n\n\n✔️ How HR leaders can shift from workflows to decision science \n\n\n\n✔️ Ethics\, trust\, and responsible AI in people decisions \n\n\n\n✔️ Real examples of 10X growth thinking powered by AI \n\n\n\n✔️ Interactive discussion with practitioners and CHROs \n\n\n\n🎯 Who should attend \n\n\n\nHR leaders • Business heads • CHROs • Founders • People analytics teams • HR tech innovators \n\n\n\n🤝 Powered by: Mantrika.ai \n\n\n\nbuilding the next generation of AI-driven HR decision platforms. \n\n\n\nStay tuned for speaker announcements\, date\, and registration details. \n\n\n\nLet’s come together to shape the future of HR — the Mantrika Way. \n\n\n\nREGISTER NOW
URL:https://globalhrcommunity.com/event/ai-in-hr-the-mantrika-way/
LOCATION:BHIVE\, Mahalakshmi Chambers\, 29\, Mahatma Gandhi Rd\, next to Trinity Metro Station\, opp. Kotak Bank\, Yellappa Garden\, Yellappa Chetty Layout\, Sivanchetti Gardens\, Bengaluru\, Karnataka 560001\, Mahalakshmi Chambers\, 29\, Mahatma Gandhi Rd\, Bangalore\, Karnataka\, 560001\, Guyana
CATEGORIES:Networking
ATTACH;FMTTYPE=image/png:https://globalhrcommunity.com/wp-content/uploads/2026/01/Mantrika-way-poster-horiz-1-2.png
ORGANIZER;CN="Global HR Community":MAILTO:eventsghrc@globalhrcommunity.com
END:VEVENT
END:VCALENDAR